BEGIN:VCALENDAR
VERSION:2.0
PRODID:-//time.now/holidays//NONSGML v1.0//EN
BEGIN:VEVENT
UID:fb1455cb-fa5b-4bc2-9d06-3178b56c9806
DTSTAMP:20260420T214247Z
DTSTART;VALUE=DATE:20260707
SUMMARY:George Town Heritage Day (Malaisie)
END:VEVENT
END:VCALENDAR