BEGIN:VCALENDAR
VERSION:2.0
PRODID:-//time.now/holidays//NONSGML v1.0//EN
BEGIN:VEVENT
UID:b79ed98d-3817-441b-a3b9-c640dfb51efa
DTSTAMP:20260420T122327Z
DTSTART;VALUE=DATE:20221118
SUMMARY:General election additional holiday (Malaisie)
END:VEVENT
END:VCALENDAR