BEGIN:VCALENDAR
VERSION:2.0
PRODID:-//time.now/holidays//NONSGML v1.0//EN
BEGIN:VEVENT
UID:2e178509-2f8d-4f05-a333-8cf2420b152b
DTSTAMP:20260420T185106Z
DTSTART;VALUE=DATE:20250401
SUMMARY:Eid al-Fitr (Second Day) (Malaisie)
END:VEVENT
END:VCALENDAR