BEGIN:VCALENDAR
VERSION:2.0
PRODID:-//time.now/holidays//NONSGML v1.0//EN
BEGIN:VEVENT
UID:13fdcf31-ab1c-47a3-8f5a-d7df59dad83e
DTSTAMP:20260420T203221Z
DTSTART;VALUE=DATE:20230424
SUMMARY:Eid al-Fitr (observed) (Malaisie)
END:VEVENT
END:VCALENDAR