BEGIN:VCALENDAR
VERSION:2.0
PRODID:-//time.now/holidays//NONSGML v1.0//EN
BEGIN:VEVENT
UID:6b37d257-a1db-4099-8d2d-91b5eb30cb6d
DTSTAMP:20260420T210203Z
DTSTART;VALUE=DATE:20230421
SUMMARY:Eid al-Fitr (additional holiday) (Malaisie)
END:VEVENT
END:VCALENDAR