BEGIN:VCALENDAR
VERSION:2.0
PRODID:-//time.now/holidays//NONSGML v1.0//EN
BEGIN:VEVENT
UID:04b1fadf-4e7e-4828-8de6-3146426c1ec4
DTSTAMP:20260420T184052Z
DTSTART;VALUE=DATE:20260528
SUMMARY:Eid al-Adha (Second Day) (estimated) (Malaisie)
END:VEVENT
END:VCALENDAR