BEGIN:VCALENDAR
VERSION:2.0
PRODID:-//time.now/holidays//NONSGML v1.0//EN
BEGIN:VEVENT
UID:e54411b5-2d5b-4628-bebd-eed4393fee98
DTSTAMP:20260420T182911Z
DTSTART;VALUE=DATE:20260527
SUMMARY:Eid al-Adha (estimated) (Malaisie)
END:VEVENT
END:VCALENDAR