BEGIN:VCALENDAR
VERSION:2.0
PRODID:-//time.now/holidays//NONSGML v1.0//EN
BEGIN:VEVENT
UID:297318bd-d049-4f04-a142-acc681e48505
DTSTAMP:20260420T044405Z
DTSTART;VALUE=DATE:20261108
SUMMARY:Deepavali (observed) (Malaisie)
END:VEVENT
END:VCALENDAR