BEGIN:VCALENDAR
VERSION:2.0
PRODID:-//time.now/holidays//NONSGML v1.0//EN
BEGIN:VEVENT
UID:871216e8-97c5-4338-9346-c6aa391363d1
DTSTAMP:20260422T210945Z
DTSTART;VALUE=DATE:20280221
SUMMARY:Declaration of Independence Day (observed) (Malaisie)
END:VEVENT
END:VCALENDAR