BEGIN:VCALENDAR
VERSION:2.0
PRODID:-//time.now/holidays//NONSGML v1.0//EN
BEGIN:VEVENT
UID:33581a4f-9616-4be6-b9c1-726830f9b975
DTSTAMP:20260422T101243Z
DTSTART;VALUE=DATE:20240212
SUMMARY:Chinese New Year (Second Day) (observed) (Malaisie)
END:VEVENT
END:VCALENDAR