BEGIN:VCALENDAR
VERSION:2.0
PRODID:-//time.now/holidays//NONSGML v1.0//EN
BEGIN:VEVENT
UID:7d1d7870-db4a-42b0-a9e9-eba4cff7fedb
DTSTAMP:20260420T212913Z
DTSTART;VALUE=DATE:20260217
SUMMARY:Chinese New Year (estimated) (Malaisie)
END:VEVENT
END:VCALENDAR