BEGIN:VCALENDAR
VERSION:2.0
PRODID:-//time.now/holidays//NONSGML v1.0//EN
BEGIN:VEVENT
UID:8e51b946-0bf6-44d6-bef1-39e4c12a9661
DTSTAMP:20260421T034023Z
DTSTART;VALUE=DATE:20331212
SUMMARY:Birthday of The Sultan of Selangor (observed) (Malaisie)
END:VEVENT
END:VCALENDAR