BEGIN:VCALENDAR
VERSION:2.0
PRODID:-//time.now/holidays//NONSGML v1.0//EN
BEGIN:VEVENT
UID:57cb1023-e6eb-4ffb-a61e-d0bbbca9fc37
DTSTAMP:20260422T105120Z
DTSTART;VALUE=DATE:20261106
SUMMARY:Birthday of the Sultan of Perak (Malaisie)
END:VEVENT
END:VCALENDAR