BEGIN:VCALENDAR
VERSION:2.0
PRODID:-//time.now/holidays//NONSGML v1.0//EN
BEGIN:VEVENT
UID:8a9d8e4d-e665-4c94-a2ed-9c0a23ceaaba
DTSTAMP:20260422T105916Z
DTSTART;VALUE=DATE:20260929
SUMMARY:Birthday of the Sultan of Kelantan (Malaisie)
END:VEVENT
END:VCALENDAR