BEGIN:VCALENDAR
VERSION:2.0
PRODID:-//time.now/holidays//NONSGML v1.0//EN
BEGIN:VEVENT
UID:8799b344-d966-4f34-89d6-32cf0503ab8c
DTSTAMP:20260422T105203Z
DTSTART;VALUE=DATE:20260517
SUMMARY:Birthday of the Raja of Perlis (Malaisie)
END:VEVENT
END:VCALENDAR