BEGIN:VCALENDAR
VERSION:2.0
PRODID:-//time.now/holidays//NONSGML v1.0//EN
BEGIN:VEVENT
UID:9121fbeb-d1f6-4aed-a4de-9f07afbb3dda
DTSTAMP:20260421T005458Z
DTSTART;VALUE=DATE:20261003
SUMMARY:Birthday of the Governor of Sabah (Malaisie)
END:VEVENT
END:VCALENDAR