BEGIN:VCALENDAR
VERSION:2.0
PRODID:-//time.now/holidays//NONSGML v1.0//EN
BEGIN:VEVENT
UID:e2bb9fb4-76f7-4afc-8db3-80b5a263b109
DTSTAMP:20260421T005458Z
DTSTART;VALUE=DATE:20260711
SUMMARY:Birthday of the Governor of Penang (Malaisie)
END:VEVENT
END:VCALENDAR