BEGIN:VCALENDAR
VERSION:2.0
PRODID:-//time.now/holidays//NONSGML v1.0//EN
BEGIN:VEVENT
UID:4b62782f-9115-4657-893c-6d9d950fa7ce
DTSTAMP:20260421T034214Z
DTSTART;VALUE=DATE:20260824
SUMMARY:Birthday of the Governor of Malacca (Malaisie)
END:VEVENT
END:VCALENDAR