BEGIN:VCALENDAR
VERSION:2.0
PRODID:-//time.now/holidays//NONSGML v1.0//EN
BEGIN:VEVENT
UID:47fae40f-8e46-4e32-bde0-3252a0753c3c
DTSTAMP:20260422T105206Z
DTSTART;VALUE=DATE:20260601
SUMMARY:Birthday of HM Yang di-Pertuan Agong (Malaisie)
END:VEVENT
END:VCALENDAR