BEGIN:VCALENDAR
VERSION:2.0
PRODID:-//time.now/holidays//NONSGML v1.0//EN
BEGIN:VEVENT
UID:8f5e5f02-312c-4901-be63-81f696962f59
DTSTAMP:20260420T110923Z
DTSTART;VALUE=DATE:20250606
SUMMARY:Arafat Day (Malaisie)
END:VEVENT
END:VCALENDAR