BEGIN:VCALENDAR
VERSION:2.0
PRODID:-//time.now/holidays//NONSGML v1.0//EN
BEGIN:VEVENT
UID:29e6f5d4-0ecf-4fd7-86d9-e4421de2a620
DTSTAMP:20260420T122919Z
DTSTART;VALUE=DATE:20260101
SUMMARY:New Year's Day (Malawi)
END:VEVENT
END:VCALENDAR