BEGIN:VCALENDAR
VERSION:2.0
PRODID:-//time.now/holidays//NONSGML v1.0//EN
BEGIN:VEVENT
UID:26716315-4c2b-4fb2-af8b-20e6b24e5b06
DTSTAMP:20260420T160716Z
DTSTART;VALUE=DATE:20280515
SUMMARY:Kamuzu Day (observed) (Malawi)
END:VEVENT
END:VCALENDAR