BEGIN:VCALENDAR
VERSION:2.0
PRODID:-//time.now/holidays//NONSGML v1.0//EN
BEGIN:VEVENT
UID:da3db873-9b4c-440e-b837-9cfa26a2f9be
DTSTAMP:20260420T153229Z
DTSTART;VALUE=DATE:20271227
SUMMARY:Christmas Day (observed) (Malawi)
END:VEVENT
END:VCALENDAR