BEGIN:VCALENDAR
VERSION:2.0
PRODID:-//time.now/holidays//NONSGML v1.0//EN
BEGIN:VEVENT
UID:ed4ac8bb-5145-43bb-acb2-0b0090dd5ff6
DTSTAMP:20260420T094527Z
DTSTART;VALUE=DATE:20261228
SUMMARY:Boxing Day (observed) (Malawi)
END:VEVENT
END:VCALENDAR