BEGIN:VCALENDAR
VERSION:2.0
PRODID:-//time.now/holidays//NONSGML v1.0//EN
BEGIN:VEVENT
UID:6db53830-8fa1-4ea5-a3ef-45401403a4d4
DTSTAMP:20260420T102319Z
DTSTART;VALUE=DATE:20260308
SUMMARY:Women's Day (Madagascar)
END:VEVENT
END:VCALENDAR