BEGIN:VCALENDAR
VERSION:2.0
PRODID:-//time.now/holidays//NONSGML v1.0//EN
BEGIN:VEVENT
UID:61b5819d-2e5b-4066-b1b7-eeba03ae8263
DTSTAMP:20260420T040924Z
DTSTART;VALUE=DATE:20261211
SUMMARY:Republic Day (Madagascar)
END:VEVENT
END:VCALENDAR