BEGIN:VCALENDAR
VERSION:2.0
PRODID:-//time.now/holidays//NONSGML v1.0//EN
BEGIN:VEVENT
UID:23f74869-847e-4a67-bc55-2110b5459253
DTSTAMP:20260420T165310Z
DTSTART;VALUE=DATE:20260101
SUMMARY:New Year's Day (Madagascar)
END:VEVENT
END:VCALENDAR