BEGIN:VCALENDAR
VERSION:2.0
PRODID:-//time.now/holidays//NONSGML v1.0//EN
BEGIN:VEVENT
UID:0e427ea4-2404-41e4-aaae-6ea56e527cbc
DTSTAMP:20260420T023252Z
DTSTART;VALUE=DATE:20260405
SUMMARY:Easter Sunday (Madagascar)
END:VEVENT
END:VCALENDAR