BEGIN:VCALENDAR
VERSION:2.0
PRODID:-//time.now/holidays//NONSGML v1.0//EN
BEGIN:VEVENT
UID:fb101d9c-38da-4b1b-86c9-db9747e41b9c
DTSTAMP:20260420T080116Z
DTSTART;VALUE=DATE:20260405
SUMMARY:Tomb-Sweeping Day (Macao)
END:VEVENT
END:VCALENDAR