BEGIN:VCALENDAR
VERSION:2.0
PRODID:-//time.now/holidays//NONSGML v1.0//EN
BEGIN:VEVENT
UID:eb7c254f-595c-4756-aa70-0af0ef4b4308
DTSTAMP:20260423T014314Z
DTSTART;VALUE=DATE:20260219
SUMMARY:The third day of Chinese New Year (Macao)
END:VEVENT
END:VCALENDAR