BEGIN:VCALENDAR
VERSION:2.0
PRODID:-//time.now/holidays//NONSGML v1.0//EN
BEGIN:VEVENT
UID:f5dbc7ff-e62c-4290-9293-2c6033d9f4a7
DTSTAMP:20260420T194850Z
DTSTART;VALUE=DATE:20261018
SUMMARY:Double Ninth Festival (Macao)
END:VEVENT
END:VCALENDAR