BEGIN:VCALENDAR
VERSION:2.0
PRODID:-//time.now/holidays//NONSGML v1.0//EN
BEGIN:VEVENT
UID:c348a80e-c0fb-471a-ae68-c525b109bab6
DTSTAMP:20260420T151607Z
DTSTART;VALUE=DATE:20261226
SUMMARY:Saint Stephen's Day (Luxembourg)
END:VEVENT
END:VCALENDAR