BEGIN:VCALENDAR
VERSION:2.0
PRODID:-//time.now/holidays//NONSGML v1.0//EN
BEGIN:VEVENT
UID:8275e320-0069-4dbd-a1fb-4068e0f8b09a
DTSTAMP:20260422T091635Z
DTSTART;VALUE=DATE:20240509
SUMMARY:Ascension Day; Europe Day (Luxembourg)
END:VEVENT
END:VCALENDAR