BEGIN:VCALENDAR
VERSION:2.0
PRODID:-//time.now/holidays//NONSGML v1.0//EN
BEGIN:VEVENT
UID:5cb034dd-ae69-47b0-82b0-952d9a90f55f
DTSTAMP:20260420T202241Z
DTSTART;VALUE=DATE:20261226
SUMMARY:Second Day of Christmas (Lituanie)
END:VEVENT
END:VCALENDAR