BEGIN:VCALENDAR
VERSION:2.0
PRODID:-//time.now/holidays//NONSGML v1.0//EN
BEGIN:VEVENT
UID:cdbf5972-166a-4fee-8e30-a51714b4eabb
DTSTAMP:20260421T035630Z
DTSTART;VALUE=DATE:20260311
SUMMARY:Day of Restoration of Independence of Lithuania (Lituanie)
END:VEVENT
END:VCALENDAR