BEGIN:VCALENDAR
VERSION:2.0
PRODID:-//time.now/holidays//NONSGML v1.0//EN
BEGIN:VEVENT
UID:ee9a8fec-e8e6-4509-8274-58f68733ad85
DTSTAMP:20260420T055124Z
DTSTART;VALUE=DATE:20261225
SUMMARY:Christmas Day (Lituanie)
END:VEVENT
END:VCALENDAR