BEGIN:VCALENDAR
VERSION:2.0
PRODID:-//time.now/holidays//NONSGML v1.0//EN
BEGIN:VEVENT
UID:6a7f035b-cd13-4c1e-be51-01ae54761f92
DTSTAMP:20260420T073651Z
DTSTART;VALUE=DATE:20260525
SUMMARY:Whit Monday (Liechtenstein)
END:VEVENT
END:VCALENDAR