BEGIN:VCALENDAR
VERSION:2.0
PRODID:-//time.now/holidays//NONSGML v1.0//EN
BEGIN:VEVENT
UID:cd7ff36c-3b57-4af7-9cd9-ee1eeaaae854
DTSTAMP:20260420T004312Z
DTSTART;VALUE=DATE:20260501
SUMMARY:Labor Day (Liechtenstein)
END:VEVENT
END:VCALENDAR