BEGIN:VCALENDAR
VERSION:2.0
PRODID:-//time.now/holidays//NONSGML v1.0//EN
BEGIN:VEVENT
UID:f02aae44-a1e5-49b9-8db2-da06da8d778c
DTSTAMP:20260420T050329Z
DTSTART;VALUE=DATE:20260202
SUMMARY:Candlemas (Liechtenstein)
END:VEVENT
END:VCALENDAR