BEGIN:VCALENDAR
VERSION:2.0
PRODID:-//time.now/holidays//NONSGML v1.0//EN
BEGIN:VEVENT
UID:03843bdb-b39a-4933-aaef-0e3f8d0619a9
DTSTAMP:20260420T160717Z
DTSTART;VALUE=DATE:20261101
SUMMARY:All Saints' Day (Liechtenstein)
END:VEVENT
END:VCALENDAR