BEGIN:VCALENDAR
VERSION:2.0
PRODID:-//time.now/holidays//NONSGML v1.0//EN
BEGIN:VEVENT
UID:14a9f00c-f2ff-4f0c-ac83-18a832298ad9
DTSTAMP:20260420T043628Z
DTSTART;VALUE=DATE:20261004
SUMMARY:Independence Day (Lesotho)
END:VEVENT
END:VCALENDAR