BEGIN:VCALENDAR
VERSION:2.0
PRODID:-//time.now/holidays//NONSGML v1.0//EN
BEGIN:VEVENT
UID:8752f6a2-14da-4421-842d-82e534618f83
DTSTAMP:20260419T230924Z
DTSTART;VALUE=DATE:20260403
SUMMARY:Good Friday (Lesotho)
END:VEVENT
END:VCALENDAR