BEGIN:VCALENDAR
VERSION:2.0
PRODID:-//time.now/holidays//NONSGML v1.0//EN
BEGIN:VEVENT
UID:dfbaefbc-1b57-4c95-8f1d-7ed0d8e7b8ac
DTSTAMP:20260419T221040Z
DTSTART;VALUE=DATE:20260406
SUMMARY:Easter Monday (Lesotho)
END:VEVENT
END:VCALENDAR