BEGIN:VCALENDAR
VERSION:2.0
PRODID:-//time.now/holidays//NONSGML v1.0//EN
BEGIN:VEVENT
UID:c700ce72-6b4e-4cd1-8a21-8b972806db98
DTSTAMP:20260420T215448Z
DTSTART;VALUE=DATE:20261226
SUMMARY:Second Day of Christmas (Lettonie)
END:VEVENT
END:VCALENDAR