BEGIN:VCALENDAR
VERSION:2.0
PRODID:-//time.now/holidays//NONSGML v1.0//EN
BEGIN:VEVENT
UID:a970da3a-4d3a-4b53-af30-9f91e325c6c7
DTSTAMP:20260420T230910Z
DTSTART;VALUE=DATE:20300506
SUMMARY:Restoration of Independence Day (observed) (Lettonie)
END:VEVENT
END:VCALENDAR