BEGIN:VCALENDAR
VERSION:2.0
PRODID:-//time.now/holidays//NONSGML v1.0//EN
BEGIN:VEVENT
UID:5c192879-14f7-4aa0-9c4e-887b75072be3
DTSTAMP:20260420T230908Z
DTSTART;VALUE=DATE:20261118
SUMMARY:Republic of Latvia Proclamation Day (Lettonie)
END:VEVENT
END:VCALENDAR