BEGIN:VCALENDAR
VERSION:2.0
PRODID:-//time.now/holidays//NONSGML v1.0//EN
BEGIN:VEVENT
UID:290c18fa-cc04-421b-abcc-8b452606a783
DTSTAMP:20260420T031757Z
DTSTART;VALUE=DATE:20260624
SUMMARY:Midsummer Day (Lettonie)
END:VEVENT
END:VCALENDAR