BEGIN:VCALENDAR
VERSION:2.0
PRODID:-//time.now/holidays//NONSGML v1.0//EN
BEGIN:VEVENT
UID:9ccdf74f-0494-4175-bdab-c8969ee8ce86
DTSTAMP:20260420T061750Z
DTSTART;VALUE=DATE:20260403
SUMMARY:Good Friday (Lettonie)
END:VEVENT
END:VCALENDAR