BEGIN:VCALENDAR
VERSION:2.0
PRODID:-//time.now/holidays//NONSGML v1.0//EN
BEGIN:VEVENT
UID:91811598-55f0-46f6-a7b1-3d5523f96934
DTSTAMP:20260420T050318Z
DTSTART;VALUE=DATE:20260405
SUMMARY:Easter Sunday (Lettonie)
END:VEVENT
END:VCALENDAR