BEGIN:VCALENDAR
VERSION:2.0
PRODID:-//time.now/holidays//NONSGML v1.0//EN
BEGIN:VEVENT
UID:bf2987b9-2d8c-4c9f-9723-87e27fd94e03
DTSTAMP:20260420T160914Z
DTSTART;VALUE=DATE:20261225
SUMMARY:Christmas Day (Lettonie)
END:VEVENT
END:VCALENDAR